BEGIN:VCALENDAR
VERSION:2.0
PRODID:-//Intand Corporation//Tandem//EN
METHOD:PUBLISH
BEGIN:VEVENT
DTSTAMP:20260422T164329Z
DTSTART:20200328T183000Z
DTEND:20200328T200000Z
TRANSP:TRANSPARENT
PRIORITY:0
SUMMARY:[Cancelled] Baseball\, JV: MHS @ VVHS
LOCATION:Volcano Vista High
DESCRIPTION:Groups:\nManzano High Baseball Boys JV\nVolcano Vista High Bas
 eball Boys JV\n\nSchools:\nManzano High\nVolcano Vista High\n\nLocation:\n
 Volcano Vista High\n\n
URL;VALUE=URI:http://vvhs.albuquerquenmus.tandem.co/index.php?type=view&ac
 tion=event&id=89670
CREATED:20200127T214238Z
LAST-MODIFIED:20200314T032951Z
UID:event-89670-albuquerquenmus@intand.com
END:VEVENT
END:VCALENDAR
